BEGIN:VCALENDAR
VERSION:2.0
PRODID:-//Tukios.com/
BEGIN:VEVENT
UID:914970a8-ad31-495c-af32-36d476992a12@www.mcclainfh.com
DTSTAMP:20260420T232215Z
DTSTART:20260424T170000Z
DTEND:20260424T180000Z
SUMMARY:Funeral Service
DESCRIPTION:
URL:https://www.mcclainfh.com/obituaries/thomas-coahran
LOCATION: 3500 IN-16  Denver IN 46926
GEO:40.8640309;-86.0779475
END:VEVENT
END:VCALENDAR