BEGIN:VCALENDAR
VERSION:2.0
PRODID:-//Tukios.com/
BEGIN:VEVENT
UID:bda225a6-b539-4377-8ac5-722929860f2a@www.mcclainfh.com
DTSTAMP:20260420T231609Z
DTSTART:20260424T150000Z
DTEND:20260424T170000Z
SUMMARY:Visitation
DESCRIPTION:
URL:https://www.mcclainfh.com/obituaries/thomas-coahran
LOCATION: 3500 IN-16  Denver IN 46926
GEO:40.8640309;-86.0779475
END:VEVENT
END:VCALENDAR